BEGIN:VCALENDAR
VERSION:2.0
PRODID:-//Publiagro - ECPv6.15.12.2//NONSGML v1.0//EN
CALSCALE:GREGORIAN
METHOD:PUBLISH
X-ORIGINAL-URL:https://publiagro.com.bo
X-WR-CALDESC:Eventos para Publiagro
REFRESH-INTERVAL;VALUE=DURATION:PT1H
X-Robots-Tag:noindex
X-PUBLISHED-TTL:PT1H
BEGIN:VTIMEZONE
TZID:America/La_Paz
BEGIN:STANDARD
TZOFFSETFROM:-0400
TZOFFSETTO:-0400
TZNAME:-04
DTSTART:20250101T000000
END:STANDARD
END:VTIMEZONE
BEGIN:VEVENT
DTSTART;TZID=America/La_Paz:20260425T170000
DTEND;TZID=America/La_Paz:20260425T210000
DTSTAMP:20260423T010050
CREATED:20260422T140017Z
LAST-MODIFIED:20260422T140017Z
UID:113074-1777136400-1777150800@publiagro.com.bo
SUMMARY:CONFERENCIA ACTUALIZACION VETERINARIA
DESCRIPTION:
URL:https://publiagro.com.bo/evento/conferencia-actualizacion-veterinaria/
LOCATION:Auditorio Comvetcruz\, Av. Irala #603\, Santa Cruz de la Sierra\, Santa Cruz\, Bolivia
ATTACH;FMTTYPE=image/jpeg:https://publiagro.com.bo/wp-content/uploads/2026/04/COMVETCRUZ.jpg
END:VEVENT
BEGIN:VEVENT
DTSTART;TZID=America/La_Paz:20260426T103000
DTEND;TZID=America/La_Paz:20260426T153000
DTSTAMP:20260423T010050
CREATED:20260422T134859Z
LAST-MODIFIED:20260422T134859Z
UID:113061-1777199400-1777217400@publiagro.com.bo
SUMMARY:V REMATE VIRTUAL CAMPO VERDE & INVITADOS
DESCRIPTION:
URL:https://publiagro.com.bo/evento/v-remate-virtual-campo-verde-invitados/
LOCATION:App El Rodeo\, Virtual\, Santa Cruz de la Sierra\, Santa Cruz
ATTACH;FMTTYPE=image/jpeg:https://publiagro.com.bo/wp-content/uploads/2026/04/WhatsApp-Image-2026-04-18-at-5.14.19-PM-scaled.jpeg
END:VEVENT
BEGIN:VEVENT
DTSTART;TZID=America/La_Paz:20260428T080000
DTEND;TZID=America/La_Paz:20260428T123000
DTSTAMP:20260423T010050
CREATED:20260422T135635Z
LAST-MODIFIED:20260422T135635Z
UID:113065-1777363200-1777379400@publiagro.com.bo
SUMMARY:JORNADA EJECUTIVA GESTION DE PERSONAL Y CUMPLIMIENTO LABORAL EN EL AGRO
DESCRIPTION:
URL:https://publiagro.com.bo/evento/jornada-ejecutiva-gestion-de-personal-y-cumplimiento-laboral-en-el-agro/
LOCATION:Salón Asocebu\, Av\, Roca Coronado Fexpocruz\, Santa Cruz de la Sierra\, Santa Cruz\, Bolivia
ATTACH;FMTTYPE=image/jpeg:https://publiagro.com.bo/wp-content/uploads/2026/04/CREA-scaled.jpg
ORGANIZER;CN="AB CREA":MAILTO:info@creabolivia.org
END:VEVENT
END:VCALENDAR