BEGIN:VCALENDAR
VERSION:2.0
PRODID:-//Publiagro - ECPv6.15.12.2//NONSGML v1.0//EN
CALSCALE:GREGORIAN
METHOD:PUBLISH
X-ORIGINAL-URL:https://publiagro.com.bo
X-WR-CALDESC:Eventos para Publiagro
REFRESH-INTERVAL;VALUE=DURATION:PT1H
X-Robots-Tag:noindex
X-PUBLISHED-TTL:PT1H
BEGIN:VTIMEZONE
TZID:America/La_Paz
BEGIN:STANDARD
TZOFFSETFROM:-0400
TZOFFSETTO:-0400
TZNAME:-04
DTSTART:20250101T000000
END:STANDARD
END:VTIMEZONE
BEGIN:VEVENT
DTSTART;VALUE=DATE:20260604
DTEND;VALUE=DATE:20260608
DTSTAMP:20260423T040857
CREATED:20260226T224455Z
LAST-MODIFIED:20260226T224455Z
UID:108665-1780531200-1780876799@publiagro.com.bo
SUMMARY:FEXPOCHIQUITANA 2026
DESCRIPTION:
URL:https://publiagro.com.bo/evento/fexpochiquitana-2026/
LOCATION:Campo ferial Agacon\, Concepción\, Concepcion\, sa\, Bolivia
ATTACH;FMTTYPE=image/jpeg:https://publiagro.com.bo/wp-content/uploads/2026/02/6-7-FEXPOCHIQUITANA-ok-scaled.jpg
END:VEVENT
BEGIN:VEVENT
DTSTART;VALUE=DATE:20260613
DTEND;VALUE=DATE:20260614
DTSTAMP:20260423T040857
CREATED:20260422T134357Z
LAST-MODIFIED:20260422T134357Z
UID:113049-1781308800-1781395199@publiagro.com.bo
SUMMARY:REMATE QUEENS ELITE
DESCRIPTION:
URL:https://publiagro.com.bo/evento/remate-queens-elite/
LOCATION:La Candela Polo Club\, Urubo\, Porongo\, Santa Cruz\, Bolivia
ATTACH;FMTTYPE=image/jpeg:https://publiagro.com.bo/wp-content/uploads/2026/04/671704474_1267948595445923_7795240826255119298_n.jpg
END:VEVENT
END:VCALENDAR