BEGIN:VCALENDAR
VERSION:2.0
PRODID:-//Publiagro - ECPv6.15.12.2//NONSGML v1.0//EN
CALSCALE:GREGORIAN
METHOD:PUBLISH
X-ORIGINAL-URL:https://publiagro.com.bo
X-WR-CALDESC:Eventos para Publiagro
REFRESH-INTERVAL;VALUE=DURATION:PT1H
X-Robots-Tag:noindex
X-PUBLISHED-TTL:PT1H
BEGIN:VTIMEZONE
TZID:America/La_Paz
BEGIN:STANDARD
TZOFFSETFROM:-0400
TZOFFSETTO:-0400
TZNAME:-04
DTSTART:20250101T000000
END:STANDARD
END:VTIMEZONE
BEGIN:VEVENT
DTSTART;TZID=America/La_Paz:20260201T100000
DTEND;TZID=America/La_Paz:20260201T220000
DTSTAMP:20260423T040226
CREATED:20260129T141801Z
LAST-MODIFIED:20260129T141801Z
UID:107225-1769940000-1769983200@publiagro.com.bo
SUMMARY:RODEO REMATES - REMATE COMERCIAL VIRTUAL
DESCRIPTION:
URL:https://publiagro.com.bo/evento/rodeo-remates-remate-comercial-virtual/
LOCATION:Santa Cruz
ATTACH;FMTTYPE=image/jpeg:https://publiagro.com.bo/wp-content/uploads/2026/01/WhatsApp-Image-2026-01-29-at-2.32.12-AM-scaled.jpeg
END:VEVENT
BEGIN:VEVENT
DTSTART;TZID=America/La_Paz:20260203T100000
DTEND;TZID=America/La_Paz:20260205T140000
DTSTAMP:20260423T040226
CREATED:20260203T121052Z
LAST-MODIFIED:20260203T121052Z
UID:107466-1770112800-1770300000@publiagro.com.bo
SUMMARY:REMATES BENI
DESCRIPTION:
URL:https://publiagro.com.bo/evento/remates-beni/
LOCATION:Centro de Remates Beni\, Beni\, Trinidad\, Beni\, Bolivia
ATTACH;FMTTYPE=image/jpeg:https://publiagro.com.bo/wp-content/uploads/2026/02/AGENDA-BENI-scaled.jpg
END:VEVENT
BEGIN:VEVENT
DTSTART;TZID=America/La_Paz:20260204T110000
DTEND;TZID=America/La_Paz:20260204T150000
DTSTAMP:20260423T040226
CREATED:20260204T122706Z
LAST-MODIFIED:20260204T122706Z
UID:107566-1770202800-1770217200@publiagro.com.bo
SUMMARY:Gran Remate Ganadero
DESCRIPTION:
URL:https://publiagro.com.bo/evento/gran-remate-ganadero-5/
LOCATION:Centro de remate Loma de Ovando\, Km 4.5 Carretera Puerto Almacén\, Trinidad\, Beni\, Bolivia
ATTACH;FMTTYPE=image/jpeg:https://publiagro.com.bo/wp-content/uploads/2026/02/remate-moote-ok-scaled.jpg
END:VEVENT
BEGIN:VEVENT
DTSTART;TZID=America/La_Paz:20260205T200000
DTEND;TZID=America/La_Paz:20260205T233000
DTSTAMP:20260423T040226
CREATED:20260205T001300Z
LAST-MODIFIED:20260205T001300Z
UID:107618-1770321600-1770334200@publiagro.com.bo
SUMMARY:Remate Comercial de Ganado Bovino
DESCRIPTION:
URL:https://publiagro.com.bo/evento/remate-comercial-de-ganado-bovino/
LOCATION:Centro de Remates Agagua\, Campo Ferial Agagua\, Guarayos\, Santa Cruz\, Bolivia
ATTACH;FMTTYPE=image/jpeg:https://publiagro.com.bo/wp-content/uploads/2026/02/remate-guarayos.jpg
END:VEVENT
BEGIN:VEVENT
DTSTART;TZID=America/La_Paz:20260206T090000
DTEND;TZID=America/La_Paz:20260207T180000
DTSTAMP:20260423T040226
CREATED:20260203T140954Z
LAST-MODIFIED:20260203T140954Z
UID:107490-1770368400-1770487200@publiagro.com.bo
SUMMARY:FERIA DEL DURANZO DE LURIBAY
DESCRIPTION:
URL:https://publiagro.com.bo/evento/feria-del-duranzo-de-luribay/
LOCATION:Plaza Humbolt\, La Paz\, Bolivia
ATTACH;FMTTYPE=image/jpeg:https://publiagro.com.bo/wp-content/uploads/2026/02/durazno-luribay.jpg
END:VEVENT
BEGIN:VEVENT
DTSTART;TZID=America/La_Paz:20260206T110000
DTEND;TZID=America/La_Paz:20260206T150000
DTSTAMP:20260423T040226
CREATED:20260204T122733Z
LAST-MODIFIED:20260204T122733Z
UID:107569-1770375600-1770390000@publiagro.com.bo
SUMMARY:Gran Remate Ganadero
DESCRIPTION:
URL:https://publiagro.com.bo/evento/gran-remate-ganadero-6/
LOCATION:Centro de remate Loma de Ovando\, Km 4.5 Carretera Puerto Almacén\, Trinidad\, Beni\, Bolivia
ATTACH;FMTTYPE=image/jpeg:https://publiagro.com.bo/wp-content/uploads/2026/02/remate-moote-ok-scaled.jpg
END:VEVENT
BEGIN:VEVENT
DTSTART;TZID=America/La_Paz:20260206T193000
DTEND;TZID=America/La_Paz:20260207T210000
DTSTAMP:20260423T040226
CREATED:20260205T133231Z
LAST-MODIFIED:20260205T133231Z
UID:107641-1770406200-1770498000@publiagro.com.bo
SUMMARY:Técnicas y procedimientos para la clasificación de la calidad de la soya
DESCRIPTION:
URL:https://publiagro.com.bo/evento/tecnicas-y-procedimientos-para-la-clasificacion-de-la-calidad-de-la-soya/
LOCATION:Santa Cruz
ATTACH;FMTTYPE=image/png:https://publiagro.com.bo/wp-content/uploads/2026/02/clasificacion-soya.png
END:VEVENT
BEGIN:VEVENT
DTSTART;TZID=America/La_Paz:20260206T200000
DTEND;TZID=America/La_Paz:20260207T233000
DTSTAMP:20260423T040226
CREATED:20260205T212224Z
LAST-MODIFIED:20260205T212224Z
UID:107645-1770408000-1770507000@publiagro.com.bo
SUMMARY:Gran remate de ganado comercial
DESCRIPTION:
URL:https://publiagro.com.bo/evento/gran-remate-de-ganado-comercial-4/
LOCATION:Centro de remate Agasaj\, San Javier\, Bolivia
ATTACH;FMTTYPE=image/jpeg:https://publiagro.com.bo/wp-content/uploads/2026/02/reamte-san-javier-ok-scaled.jpg
END:VEVENT
BEGIN:VEVENT
DTSTART;TZID=America/La_Paz:20260207T100000
DTEND;TZID=America/La_Paz:20260207T123000
DTSTAMP:20260423T040226
CREATED:20260203T121353Z
LAST-MODIFIED:20260203T121353Z
UID:107468-1770458400-1770467400@publiagro.com.bo
SUMMARY:CURSO MANEJO INTEGRAL DE PLAGAS Y ENFERMEDADES
DESCRIPTION:
URL:https://publiagro.com.bo/evento/curso-manejo-integral-de-plagas-y-enfermedades/
LOCATION:ACELEG\, Bolivia
ATTACH;FMTTYPE=image/jpeg:https://publiagro.com.bo/wp-content/uploads/2026/02/MIPE.jpg
END:VEVENT
BEGIN:VEVENT
DTSTART;TZID=America/La_Paz:20260207T190000
DTEND;TZID=America/La_Paz:20260208T223000
DTSTAMP:20260423T040226
CREATED:20260204T194547Z
LAST-MODIFIED:20260204T194547Z
UID:107592-1770490800-1770589800@publiagro.com.bo
SUMMARY:SEGUNDO REMATE GANADO COMERCIAL
DESCRIPTION:
URL:https://publiagro.com.bo/evento/segundo-remate-ganado-comercial-2/
LOCATION:Centro de Remates Agacon\, Concepcion\, Concepcion\, Santa Cruz
ATTACH;FMTTYPE=image/jpeg:https://publiagro.com.bo/wp-content/uploads/2026/02/remate-asopee-scaled.jpg
END:VEVENT
BEGIN:VEVENT
DTSTART;TZID=America/La_Paz:20260210T100000
DTEND;TZID=America/La_Paz:20260211T130000
DTSTAMP:20260423T040226
CREATED:20260207T144849Z
LAST-MODIFIED:20260207T144849Z
UID:107823-1770717600-1770814800@publiagro.com.bo
SUMMARY:NORMATIVA GANADERA Y NORMATIVA MOVIMIENTO DE GANADO
DESCRIPTION:
URL:https://publiagro.com.bo/evento/normativa-ganadera-y-normativa-movimiento-de-ganado/
LOCATION:Senasag Trinidad\, Trinidad\, Beni\, Bolivia
ATTACH;FMTTYPE=image/jpeg:https://publiagro.com.bo/wp-content/uploads/2026/02/fegabeni.jpg
END:VEVENT
BEGIN:VEVENT
DTSTART;TZID=America/La_Paz:20260210T190000
DTEND;TZID=America/La_Paz:20260212T220000
DTSTAMP:20260423T040226
CREATED:20260204T115236Z
LAST-MODIFIED:20260204T115236Z
UID:107563-1770750000-1770933600@publiagro.com.bo
SUMMARY:Tour Lanzamiento Línea Menores Virbac - Agromel
DESCRIPTION:
URL:https://publiagro.com.bo/evento/tour-lanzamiento-linea-menores-virbac-agromel/
LOCATION:Hotel Camino Real\, Av. San Martin 4to anillo Equipetrol Norte\, Santa Cruz\, Santa Cruz\, Bolivia
ATTACH;FMTTYPE=image/jpeg:https://publiagro.com.bo/wp-content/uploads/2026/02/agromel-menores-ok-scaled.jpg
END:VEVENT
BEGIN:VEVENT
DTSTART;TZID=America/La_Paz:20260211T110000
DTEND;TZID=America/La_Paz:20260211T170000
DTSTAMP:20260423T040226
CREATED:20260207T152808Z
LAST-MODIFIED:20260207T152808Z
UID:107830-1770807600-1770829200@publiagro.com.bo
SUMMARY:Gran Remate ganadero
DESCRIPTION:
URL:https://publiagro.com.bo/evento/gran-remate-ganadero-7/
LOCATION:Centro de remate Loma de Ovando\, Km 4.5 Carretera Puerto Almacén\, Trinidad\, Beni\, Bolivia
ATTACH;FMTTYPE=image/jpeg:https://publiagro.com.bo/wp-content/uploads/2026/02/remate-beni-2-ok-scaled.jpg
END:VEVENT
BEGIN:VEVENT
DTSTART;TZID=America/La_Paz:20260211T130000
DTEND;TZID=America/La_Paz:20260211T160000
DTSTAMP:20260423T040226
CREATED:20260210T133024Z
LAST-MODIFIED:20260210T133101Z
UID:107974-1770814800-1770825600@publiagro.com.bo
SUMMARY:Remate ganadero Beni
DESCRIPTION:
URL:https://publiagro.com.bo/evento/remate-ganadero-beni/
LOCATION:Centro de Remates Beni\, Beni\, Trinidad\, Beni\, Bolivia
ATTACH;FMTTYPE=image/jpeg:https://publiagro.com.bo/wp-content/uploads/2026/02/remate-beni-3-ok-scaled.jpg
END:VEVENT
BEGIN:VEVENT
DTSTART;TZID=America/La_Paz:20260212T130000
DTEND;TZID=America/La_Paz:20260212T160000
DTSTAMP:20260423T040226
CREATED:20260210T133134Z
LAST-MODIFIED:20260210T133134Z
UID:107977-1770901200-1770912000@publiagro.com.bo
SUMMARY:Remate ganadero Beni
DESCRIPTION:
URL:https://publiagro.com.bo/evento/remate-ganadero-beni-2/
LOCATION:Centro de Remates Beni\, Beni\, Trinidad\, Beni\, Bolivia
ATTACH;FMTTYPE=image/jpeg:https://publiagro.com.bo/wp-content/uploads/2026/02/remate-beni-3-ok-scaled.jpg
END:VEVENT
BEGIN:VEVENT
DTSTART;TZID=America/La_Paz:20260213T110000
DTEND;TZID=America/La_Paz:20260213T170000
DTSTAMP:20260423T040226
CREATED:20260207T152836Z
LAST-MODIFIED:20260207T152836Z
UID:107837-1770980400-1771002000@publiagro.com.bo
SUMMARY:Gran Remate ganadero
DESCRIPTION:
URL:https://publiagro.com.bo/evento/gran-remate-ganadero-8/
LOCATION:Centro de remate Loma de Ovando\, Km 4.5 Carretera Puerto Almacén\, Trinidad\, Beni\, Bolivia
ATTACH;FMTTYPE=image/jpeg:https://publiagro.com.bo/wp-content/uploads/2026/02/remate-beni-2-ok-scaled.jpg
END:VEVENT
BEGIN:VEVENT
DTSTART;TZID=America/La_Paz:20260214T100000
DTEND;TZID=America/La_Paz:20260214T123000
DTSTAMP:20260423T040226
CREATED:20260203T121416Z
LAST-MODIFIED:20260203T121416Z
UID:107471-1771063200-1771072200@publiagro.com.bo
SUMMARY:CURSO MANEJO INTEGRAL DE PLAGAS Y ENFERMEDADES
DESCRIPTION:
URL:https://publiagro.com.bo/evento/curso-manejo-integral-de-plagas-y-enfermedades-2/
LOCATION:ACELEG\, Bolivia
ATTACH;FMTTYPE=image/jpeg:https://publiagro.com.bo/wp-content/uploads/2026/02/MIPE.jpg
END:VEVENT
BEGIN:VEVENT
DTSTART;TZID=America/La_Paz:20260214T143000
DTEND;TZID=America/La_Paz:20260214T170000
DTSTAMP:20260423T040226
CREATED:20260214T131201Z
LAST-MODIFIED:20260214T131201Z
UID:108218-1771079400-1771088400@publiagro.com.bo
SUMMARY:REMATE ESPECIAL EQUINO
DESCRIPTION:
URL:https://publiagro.com.bo/evento/remate-especial-equino/
LOCATION:Centro de Remate Subastar\, Km 11 Carretera a Cotoca\, Santa Cruz de la Sierra\, Santa Cruz\, Bolivia
ATTACH;FMTTYPE=image/jpeg:https://publiagro.com.bo/wp-content/uploads/2026/02/remate-equino-ok-scaled.jpg
END:VEVENT
BEGIN:VEVENT
DTSTART;TZID=America/La_Paz:20260219T200000
DTEND;TZID=America/La_Paz:20260219T233000
DTSTAMP:20260423T040226
CREATED:20260218T125254Z
LAST-MODIFIED:20260218T125254Z
UID:108226-1771531200-1771543800@publiagro.com.bo
SUMMARY:REMATE COMERCIAL DE GANADO AL PESO Y BULTO
DESCRIPTION:
URL:https://publiagro.com.bo/evento/remate-comercial-de-ganado-al-peso-y-bulto/
LOCATION:Centro de Remates Agagua\, Campo Ferial Agagua\, Guarayos\, Santa Cruz\, Bolivia
ATTACH;FMTTYPE=image/jpeg:https://publiagro.com.bo/wp-content/uploads/2026/02/remate-comercial-carnval-ok-scaled.jpg
END:VEVENT
BEGIN:VEVENT
DTSTART;TZID=America/La_Paz:20260221T100000
DTEND;TZID=America/La_Paz:20260221T123000
DTSTAMP:20260423T040226
CREATED:20260203T121437Z
LAST-MODIFIED:20260203T121437Z
UID:107473-1771668000-1771677000@publiagro.com.bo
SUMMARY:CURSO MANEJO INTEGRAL DE PLAGAS Y ENFERMEDADES
DESCRIPTION:
URL:https://publiagro.com.bo/evento/curso-manejo-integral-de-plagas-y-enfermedades-3/
LOCATION:ACELEG\, Bolivia
ATTACH;FMTTYPE=image/jpeg:https://publiagro.com.bo/wp-content/uploads/2026/02/MIPE.jpg
END:VEVENT
BEGIN:VEVENT
DTSTART;TZID=America/La_Paz:20260222T090000
DTEND;TZID=America/La_Paz:20260222T163000
DTSTAMP:20260423T040226
CREATED:20260207T142357Z
LAST-MODIFIED:20260207T142357Z
UID:107817-1771750800-1771777800@publiagro.com.bo
SUMMARY:CURSO CRIANZA DE GALLINAS PONEDORAS
DESCRIPTION:
URL:https://publiagro.com.bo/evento/curso-crianza-de-gallinas-ponedoras/
LOCATION:SPECIFICA\, Quinto anillo doble via la guardia\, Santa Cruz de la Sierra\, Santa Cruz\, Bolivia
ATTACH;FMTTYPE=image/jpeg:https://publiagro.com.bo/wp-content/uploads/2026/02/CRIANZA-AVES-ok-scaled.jpg
END:VEVENT
BEGIN:VEVENT
DTSTART;TZID=America/La_Paz:20260227T193000
DTEND;TZID=America/La_Paz:20260227T220000
DTSTAMP:20260423T040226
CREATED:20260219T223507Z
LAST-MODIFIED:20260219T223507Z
UID:108330-1772220600-1772229600@publiagro.com.bo
SUMMARY:DISERTACION TECNICA ASEPSIA
DESCRIPTION:
URL:https://publiagro.com.bo/evento/disertacion-tecnica-asepsia/
LOCATION:Salón Comvetcruz
ATTACH;FMTTYPE=image/jpeg:https://publiagro.com.bo/wp-content/uploads/2026/02/comvetcruz.jpg
END:VEVENT
BEGIN:VEVENT
DTSTART;TZID=America/La_Paz:20260228T070000
DTEND;TZID=America/La_Paz:20260228T230000
DTSTAMP:20260423T040226
CREATED:20260218T125736Z
LAST-MODIFIED:20260218T125736Z
UID:108233-1772262000-1772319600@publiagro.com.bo
SUMMARY:PRESENTACION EMBRIONES BABY ELITE MUCARZEL
DESCRIPTION:
URL:https://publiagro.com.bo/evento/presentacion-embriones-baby-elite-mucarzel/
LOCATION:Casa del Cebú\, Fexpocruz
ATTACH;FMTTYPE=image/jpeg:https://publiagro.com.bo/wp-content/uploads/2026/02/embriones-mucarzel-2-scaled.jpg
END:VEVENT
BEGIN:VEVENT
DTSTART;TZID=America/La_Paz:20260228T100000
DTEND;TZID=America/La_Paz:20260228T123000
DTSTAMP:20260423T040226
CREATED:20260203T121458Z
LAST-MODIFIED:20260203T121458Z
UID:107475-1772272800-1772281800@publiagro.com.bo
SUMMARY:CURSO MANEJO INTEGRAL DE PLAGAS Y ENFERMEDADES
DESCRIPTION:
URL:https://publiagro.com.bo/evento/curso-manejo-integral-de-plagas-y-enfermedades-4/
LOCATION:ACELEG\, Bolivia
ATTACH;FMTTYPE=image/jpeg:https://publiagro.com.bo/wp-content/uploads/2026/02/MIPE.jpg
END:VEVENT
BEGIN:VEVENT
DTSTART;TZID=America/La_Paz:20260228T150000
DTEND;TZID=America/La_Paz:20260301T203000
DTSTAMP:20260423T040226
CREATED:20260204T155242Z
LAST-MODIFIED:20260204T155242Z
UID:107589-1772290800-1772397000@publiagro.com.bo
SUMMARY:MERCADITO GATUNO 2026
DESCRIPTION:
URL:https://publiagro.com.bo/evento/mercadito-gatuno-2026/
LOCATION:Santa Cruz
ATTACH;FMTTYPE=image/jpeg:https://publiagro.com.bo/wp-content/uploads/2026/02/gatunao-ok-scaled.jpg
END:VEVENT
BEGIN:VEVENT
DTSTART;TZID=America/La_Paz:20260228T190000
DTEND;TZID=America/La_Paz:20260228T233000
DTSTAMP:20260423T040226
CREATED:20260224T170617Z
LAST-MODIFIED:20260224T170617Z
UID:108479-1772305200-1772321400@publiagro.com.bo
SUMMARY:TERCER REMATE COMERCIAL DE GANADO BOVINO
DESCRIPTION:
URL:https://publiagro.com.bo/evento/tercer-remate-comercial-de-ganado-bovino/
LOCATION:Campo ferial Agacon\, Concepción\, Concepcion\, sa\, Bolivia
ATTACH;FMTTYPE=image/jpeg:https://publiagro.com.bo/wp-content/uploads/2026/02/28-remate.jpg
END:VEVENT
END:VCALENDAR