BEGIN:VCALENDAR
VERSION:2.0
PRODID:-//Publiagro - ECPv6.15.12.2//NONSGML v1.0//EN
CALSCALE:GREGORIAN
METHOD:PUBLISH
X-WR-CALNAME:Publiagro
X-ORIGINAL-URL:https://publiagro.com.bo
X-WR-CALDESC:Eventos para Publiagro
REFRESH-INTERVAL;VALUE=DURATION:PT1H
X-Robots-Tag:noindex
X-PUBLISHED-TTL:PT1H
BEGIN:VTIMEZONE
TZID:America/La_Paz
BEGIN:STANDARD
TZOFFSETFROM:-0400
TZOFFSETTO:-0400
TZNAME:-04
DTSTART:20250101T000000
END:STANDARD
END:VTIMEZONE
BEGIN:VEVENT
DTSTART;TZID=America/La_Paz:20260820T080000
DTEND;TZID=America/La_Paz:20260821T190000
DTSTAMP:20260425T071335
CREATED:20260303T203428Z
LAST-MODIFIED:20260303T203428Z
UID:108963-1787212800-1787338800@publiagro.com.bo
SUMMARY:X CURSO NACIONAL EN SANIDAD Y PRODUCCION AVICOLA
DESCRIPTION:
URL:https://publiagro.com.bo/evento/x-curso-nacional-en-sanidad-y-produccion-avicola/
LOCATION:Salon Patuju Hotel Novotel\, Av. Roca Coronado\, Santa Cruz de la Sierra\, Santa Cruz\, Bolivia
ATTACH;FMTTYPE=image/jpeg:https://publiagro.com.bo/wp-content/uploads/2026/03/20-21-AMEVEA-scaled.jpg
ORGANIZER;CN="Amevea Bolivia":MAILTO:amevea.bolivia@gmail.com
END:VEVENT
END:VCALENDAR