BEGIN:VCALENDAR
VERSION:2.0
PRODID:-//Publiagro - ECPv6.15.12.2//NONSGML v1.0//EN
CALSCALE:GREGORIAN
METHOD:PUBLISH
X-WR-CALNAME:Publiagro
X-ORIGINAL-URL:https://publiagro.com.bo
X-WR-CALDESC:Eventos para Publiagro
REFRESH-INTERVAL;VALUE=DURATION:PT1H
X-Robots-Tag:noindex
X-PUBLISHED-TTL:PT1H
BEGIN:VTIMEZONE
TZID:America/La_Paz
BEGIN:STANDARD
TZOFFSETFROM:-0400
TZOFFSETTO:-0400
TZNAME:-04
DTSTART:20250101T000000
END:STANDARD
END:VTIMEZONE
BEGIN:VEVENT
DTSTART;TZID=America/La_Paz:20260303T100000
DTEND;TZID=America/La_Paz:20260305T140000
DTSTAMP:20260423T053428
CREATED:20260227T130027Z
LAST-MODIFIED:20260227T130051Z
UID:108676-1772532000-1772719200@publiagro.com.bo
SUMMARY:REMATE AL PESO Y AL BULTO
DESCRIPTION:
URL:https://publiagro.com.bo/evento/remate-al-peso-y-al-bulto/
LOCATION:Centro de Remates Beni\, Beni\, Trinidad\, Beni\, Bolivia
ATTACH;FMTTYPE=image/jpeg:https://publiagro.com.bo/wp-content/uploads/2026/02/remates-beni-marzo-ok-scaled.jpg
END:VEVENT
BEGIN:VEVENT
DTSTART;VALUE=DATE:20260305
DTEND;VALUE=DATE:20260308
DTSTAMP:20260423T053428
CREATED:20260203T120857Z
LAST-MODIFIED:20260227T130414Z
UID:107461-1772668800-1772927999@publiagro.com.bo
SUMMARY:EXPOSOYA 2026
DESCRIPTION:
URL:https://publiagro.com.bo/evento/exposoya-2026/
LOCATION:CEA 2 Anapo\, Km 80 Carretera SCZ TDD\, 26 de Agosto\, Santa Cruz\, Bolivia
ATTACH;FMTTYPE=image/jpeg:https://publiagro.com.bo/wp-content/uploads/2026/02/EXPOSOYA-2026-OK-scaled.jpg
END:VEVENT
BEGIN:VEVENT
DTSTART;TZID=America/La_Paz:20260305T080000
DTEND;TZID=America/La_Paz:20260305T170000
DTSTAMP:20260423T053428
CREATED:20260305T124533Z
LAST-MODIFIED:20260305T124533Z
UID:109069-1772697600-1772730000@publiagro.com.bo
SUMMARY:SOLUCIONES BASADAS EN LA TIERRA\, AGRICULTURA Y GANADERIA PARA LA ACCION CLIMATICA EN BOLIVIA
DESCRIPTION:
URL:https://publiagro.com.bo/evento/soluciones-basadas-en-la-tierra-agricultura-y-ganaderia-para-la-accion-climatica-en-bolivia/
LOCATION:Salon de Eventos CAINCO\, Av. Las Américas #7\, Santa Cruz de la Sierra\, Santa Cruz\, Bolivia
ATTACH;FMTTYPE=image/jpeg:https://publiagro.com.bo/wp-content/uploads/2026/03/5-carbono-ok-scaled.jpg
END:VEVENT
BEGIN:VEVENT
DTSTART;TZID=America/La_Paz:20260305T080000
DTEND;TZID=America/La_Paz:20260306T170000
DTSTAMP:20260423T053428
CREATED:20260302T210324Z
LAST-MODIFIED:20260302T210324Z
UID:108851-1772697600-1772816400@publiagro.com.bo
SUMMARY:CAPACITACION ACREDITACION PREDIOS DE EXPORTACION CARNE
DESCRIPTION:
URL:https://publiagro.com.bo/evento/capacitacion-acreditacion-predios-de-exportacion-carne/
LOCATION:Salon Gran Mamore Senasag\, Trinidad\, Beni\, Bolivia
ATTACH;FMTTYPE=image/jpeg:https://publiagro.com.bo/wp-content/uploads/2026/03/5-6-capacitacion-carne-ok-scaled.jpg
END:VEVENT
BEGIN:VEVENT
DTSTART;TZID=America/La_Paz:20260305T090000
DTEND;TZID=America/La_Paz:20260305T170000
DTSTAMP:20260423T053428
CREATED:20260303T133734Z
LAST-MODIFIED:20260303T133734Z
UID:108903-1772701200-1772730000@publiagro.com.bo
SUMMARY:CHARLAS TECNICAS AGALESAR
DESCRIPTION:
URL:https://publiagro.com.bo/evento/charlas-tecnicas-agalesar/
LOCATION:Predio Perotoses\, Santa Rosa del Sara\, Santa Cruz\, Bolivia
ATTACH;FMTTYPE=image/jpeg:https://publiagro.com.bo/wp-content/uploads/2026/03/5-charla-agalesar.jpg
END:VEVENT
BEGIN:VEVENT
DTSTART;TZID=America/La_Paz:20260305T103000
DTEND;TZID=America/La_Paz:20260305T170000
DTSTAMP:20260423T053428
CREATED:20260303T133953Z
LAST-MODIFIED:20260303T133953Z
UID:108909-1772706600-1772730000@publiagro.com.bo
SUMMARY:ROCAS FOSFORICA\, EL SECRETO DE LA PRODUCTIVIDAD
DESCRIPTION:
URL:https://publiagro.com.bo/evento/rocas-fosforica-el-secreto-de-la-productividad/
LOCATION:Virtual
ATTACH;FMTTYPE=image/jpeg:https://publiagro.com.bo/wp-content/uploads/2026/03/5-ROCA-FOSFORICA.jpg
END:VEVENT
BEGIN:VEVENT
DTSTART;TZID=America/La_Paz:20260306T080000
DTEND;TZID=America/La_Paz:20260306T150000
DTSTAMP:20260423T053428
CREATED:20260219T223312Z
LAST-MODIFIED:20260219T223312Z
UID:108327-1772784000-1772809200@publiagro.com.bo
SUMMARY:JORNADA TECNICA AGRICOLA CHIQUITANA
DESCRIPTION:
URL:https://publiagro.com.bo/evento/jornada-tecnica-agricola-chiquitana/
LOCATION:Hacienda Lagunita\, Concepcion\, Santa Cruz\, Bolivia
ATTACH;FMTTYPE=image/jpeg:https://publiagro.com.bo/wp-content/uploads/2026/02/crea-agricola.jpg
ORGANIZER;CN="AB CREA":MAILTO:info@creabolivia.org
END:VEVENT
BEGIN:VEVENT
DTSTART;TZID=America/La_Paz:20260306T120000
DTEND;TZID=America/La_Paz:20260306T150000
DTSTAMP:20260423T053428
CREATED:20260205T012924Z
LAST-MODIFIED:20260205T012924Z
UID:107621-1772798400-1772809200@publiagro.com.bo
SUMMARY:Primer Mega Remate Productividad Chiquitana
DESCRIPTION:
URL:https://publiagro.com.bo/evento/primer-mega-remate-productividad-chiquitana/
LOCATION:Centro de Remates Agasam\, Agasam\, San Matias\, Santa Cruz
ATTACH;FMTTYPE=image/jpeg:https://publiagro.com.bo/wp-content/uploads/2026/02/remate-productividad-scaled.jpg
END:VEVENT
BEGIN:VEVENT
DTSTART;TZID=America/La_Paz:20260307T170000
DTEND;TZID=America/La_Paz:20260307T210000
DTSTAMP:20260423T053428
CREATED:20260219T223030Z
LAST-MODIFIED:20260219T223030Z
UID:108321-1772902800-1772917200@publiagro.com.bo
SUMMARY:CICLO DE ACTUALIZACION VETERINARIA
DESCRIPTION:
URL:https://publiagro.com.bo/evento/ciclo-de-actualizacion-veterinaria/
LOCATION:Salón Comvetcruz
ATTACH;FMTTYPE=image/jpeg:https://publiagro.com.bo/wp-content/uploads/2026/02/new-vets-2-scaled.jpg
END:VEVENT
BEGIN:VEVENT
DTSTART;TZID=America/La_Paz:20260308T080000
DTEND;TZID=America/La_Paz:20260308T170000
DTSTAMP:20260423T053428
CREATED:20260221T195823Z
LAST-MODIFIED:20260221T195823Z
UID:108395-1772956800-1772989200@publiagro.com.bo
SUMMARY:TALLER PRODUCCION Y CONSERVACION DE FORRAJE
DESCRIPTION:
URL:https://publiagro.com.bo/evento/taller-produccion-y-conservacion-de-forraje/
LOCATION:Comunidad Guenda\, Porongo\, Porongo\, Santa Cruz\, Bolivia
ATTACH;FMTTYPE=image/jpeg:https://publiagro.com.bo/wp-content/uploads/2026/02/taller-de-forrajes-2-scaled.jpg
END:VEVENT
BEGIN:VEVENT
DTSTART;TZID=America/La_Paz:20260308T103000
DTEND;TZID=America/La_Paz:20260308T170000
DTSTAMP:20260423T053428
CREATED:20260224T170100Z
LAST-MODIFIED:20260224T170100Z
UID:108476-1772965800-1772989200@publiagro.com.bo
SUMMARY:REMATE ESPECIAL MUJERES QUE LIDERAN EL CAMPO
DESCRIPTION:
URL:https://publiagro.com.bo/evento/remate-especial-mujeres-que-lideran-el-campo/
LOCATION:App El Rodeo\, Virtual\, Santa Cruz de la Sierra\, Santa Cruz
ATTACH;FMTTYPE=image/jpeg:https://publiagro.com.bo/wp-content/uploads/2026/02/8-REMATE-MUJERES-OK-scaled.jpg
END:VEVENT
BEGIN:VEVENT
DTSTART;TZID=America/La_Paz:20260308T120000
DTEND;TZID=America/La_Paz:20260308T120000
DTSTAMP:20260423T053428
CREATED:20260129T142049Z
LAST-MODIFIED:20260129T142049Z
UID:107228-1772971200-1772971200@publiagro.com.bo
SUMMARY:GRAN REMATE TRILOGIA BRAHMAN
DESCRIPTION:
URL:https://publiagro.com.bo/evento/gran-remate-trilogia-brahman/
LOCATION:Salon Guaraní\, Fexpocruz
ATTACH;FMTTYPE=image/jpeg:https://publiagro.com.bo/wp-content/uploads/2026/01/WhatsApp-Image-2026-01-29-at-7.55.33-AM-scaled.jpeg
END:VEVENT
BEGIN:VEVENT
DTSTART;TZID=America/La_Paz:20260310T100000
DTEND;TZID=America/La_Paz:20260312T140000
DTSTAMP:20260423T053428
CREATED:20260227T130114Z
LAST-MODIFIED:20260227T130114Z
UID:108679-1773136800-1773324000@publiagro.com.bo
SUMMARY:REMATE AL PESO Y AL BULTO
DESCRIPTION:
URL:https://publiagro.com.bo/evento/remate-al-peso-y-al-bulto-2/
LOCATION:Centro de Remates Beni\, Beni\, Trinidad\, Beni\, Bolivia
ATTACH;FMTTYPE=image/jpeg:https://publiagro.com.bo/wp-content/uploads/2026/02/remates-beni-marzo-ok-scaled.jpg
END:VEVENT
BEGIN:VEVENT
DTSTART;TZID=America/La_Paz:20260310T160000
DTEND;TZID=America/La_Paz:20260310T190000
DTSTAMP:20260423T053428
CREATED:20260303T134315Z
LAST-MODIFIED:20260303T134315Z
UID:108911-1773158400-1773169200@publiagro.com.bo
SUMMARY:INTEGRAL PET
DESCRIPTION:
URL:https://publiagro.com.bo/evento/integral-pet/
LOCATION:Salon Asocebu  en la Fexpocruz\, Santa Cruz\, Bolivia
ATTACH;FMTTYPE=image/jpeg:https://publiagro.com.bo/wp-content/uploads/2026/03/10-integral-pet-corvet-OOK-scaled.jpg
END:VEVENT
BEGIN:VEVENT
DTSTART;TZID=America/La_Paz:20260311T080000
DTEND;TZID=America/La_Paz:20260313T170000
DTSTAMP:20260423T053428
CREATED:20260302T153732Z
LAST-MODIFIED:20260302T153732Z
UID:108826-1773216000-1773421200@publiagro.com.bo
SUMMARY:TALLER CAPACITACION ACREDITACION ESTABLECIMIENTOS AVICOLAS
DESCRIPTION:
URL:https://publiagro.com.bo/evento/taller-capacitacion-acreditacion-establecimientos-avicolas/
LOCATION:Salon Directorio de ADA
ATTACH;FMTTYPE=image/jpeg:https://publiagro.com.bo/wp-content/uploads/2026/03/11-12-13-capacitacion-avicola-OK-scaled.jpg
END:VEVENT
BEGIN:VEVENT
DTSTART;TZID=America/La_Paz:20260312T080000
DTEND;TZID=America/La_Paz:20260312T170000
DTSTAMP:20260423T053428
CREATED:20260310T131957Z
LAST-MODIFIED:20260310T131957Z
UID:109933-1773302400-1773334800@publiagro.com.bo
SUMMARY:TECNOLOGIA RENDIMIENTOS CULTIVOS DE SOYA
DESCRIPTION:
URL:https://publiagro.com.bo/evento/tecnologia-rendimientos-cultivos-de-soya/
LOCATION:Hacienda Curichi\, San Pedro\, Santa Cruz\, Bolivia
ATTACH;FMTTYPE=image/jpeg:https://publiagro.com.bo/wp-content/uploads/2026/03/12-DIA-DE-CAMPO-FUNDACRUZ-scaled.jpg
ORGANIZER;CN="Fundacruz":MAILTO:produccionsemilla@fundacruz.org.bo
END:VEVENT
BEGIN:VEVENT
DTSTART;TZID=America/La_Paz:20260313T080000
DTEND;TZID=America/La_Paz:20260314T170000
DTSTAMP:20260423T053428
CREATED:20260305T124249Z
LAST-MODIFIED:20260305T124249Z
UID:109063-1773388800-1773507600@publiagro.com.bo
SUMMARY:PRIMER ENCUENTRO AMAZONICO DE CACAO DE CALIDAD
DESCRIPTION:
URL:https://publiagro.com.bo/evento/primer-encuentro-amazonico-de-cacao-de-calidad/
LOCATION:Rurrenabaque\, Rurrenabaque\, Beni\, Bolivia
ATTACH;FMTTYPE=image/jpeg:https://publiagro.com.bo/wp-content/uploads/2026/03/13-14-cacao-ok-scaled.jpg
END:VEVENT
BEGIN:VEVENT
DTSTART;TZID=America/La_Paz:20260313T193000
DTEND;TZID=America/La_Paz:20260314T220000
DTSTAMP:20260423T053428
CREATED:20260302T211008Z
LAST-MODIFIED:20260302T211008Z
UID:108856-1773430200-1773525600@publiagro.com.bo
SUMMARY:CURSO MANEJO INTEGRAL DE PLAGAS Y ENFERMEDADES
DESCRIPTION:
URL:https://publiagro.com.bo/evento/curso-manejo-integral-de-plagas-y-enfermedades-5/
LOCATION:Virtual
ATTACH;FMTTYPE=image/jpeg:https://publiagro.com.bo/wp-content/uploads/2026/03/13-14-manejo-de-plagas-ok-scaled.jpg
END:VEVENT
BEGIN:VEVENT
DTSTART;TZID=America/La_Paz:20260313T200000
DTEND;TZID=America/La_Paz:20260313T233000
DTSTAMP:20260423T053428
CREATED:20260310T225957Z
LAST-MODIFIED:20260310T225957Z
UID:109985-1773432000-1773444600@publiagro.com.bo
SUMMARY:REMATE COMERCIAL DE GANADO AL PESO Y AL BULTO
DESCRIPTION:
URL:https://publiagro.com.bo/evento/remate-comercial-de-ganado-al-peso-y-al-bulto/
LOCATION:Centro de Remates Asogep
ATTACH;FMTTYPE=image/jpeg:https://publiagro.com.bo/wp-content/uploads/2026/03/13-remate-el-puente.jpg
END:VEVENT
BEGIN:VEVENT
DTSTART;TZID=America/La_Paz:20260314T080000
DTEND;TZID=America/La_Paz:20260314T180000
DTSTAMP:20260423T053428
CREATED:20260218T125454Z
LAST-MODIFIED:20260218T125454Z
UID:108230-1773475200-1773511200@publiagro.com.bo
SUMMARY:SHOPPING LECHERO GIROLANDO 2DA EDICION ELITE
DESCRIPTION:
URL:https://publiagro.com.bo/evento/shopping-lechero-girolando-2da-edicion-elite/
LOCATION:Salon Asople\, Km 8 Carretera Yapacani Bulo Bulo\, Yapacani\, Santa Cruz\, Bolivia
ATTACH;FMTTYPE=image/jpeg:https://publiagro.com.bo/wp-content/uploads/2026/02/remate-girolando-2-scaled.jpg
ORGANIZER;CN="ASOPLE":MAILTO:Yapacani
END:VEVENT
BEGIN:VEVENT
DTSTART;TZID=America/La_Paz:20260314T190000
DTEND;TZID=America/La_Paz:20260314T230000
DTSTAMP:20260423T053428
CREATED:20260310T225207Z
LAST-MODIFIED:20260310T225207Z
UID:109975-1773514800-1773529200@publiagro.com.bo
SUMMARY:REMATE DE GANADO COMERCIAL
DESCRIPTION:
URL:https://publiagro.com.bo/evento/remate-de-ganado-comercial-9/
LOCATION:Campo ferial Agacon\, Concepción\, Concepcion\, sa\, Bolivia
ATTACH;FMTTYPE=image/jpeg:https://publiagro.com.bo/wp-content/uploads/2026/03/14-remate.jpg
END:VEVENT
BEGIN:VEVENT
DTSTART;TZID=America/La_Paz:20260314T203000
DTEND;TZID=America/La_Paz:20260314T233000
DTSTAMP:20260423T053428
CREATED:20260311T160708Z
LAST-MODIFIED:20260311T160708Z
UID:110013-1773520200-1773531000@publiagro.com.bo
SUMMARY:REMATE DE GANADO SAN RAMON
DESCRIPTION:
URL:https://publiagro.com.bo/evento/remate-de-ganado-san-ramon/
LOCATION:Centro de Remates San Ramon\, San Ramon\, Santa Cruz\, Bolivia
ATTACH;FMTTYPE=image/jpeg:https://publiagro.com.bo/wp-content/uploads/2026/03/14-remate-san-ramon-ok-scaled.jpg
END:VEVENT
BEGIN:VEVENT
DTSTART;TZID=America/La_Paz:20260316T080000
DTEND;TZID=America/La_Paz:20260317T170000
DTSTAMP:20260423T053428
CREATED:20260313T122248Z
LAST-MODIFIED:20260313T122248Z
UID:110126-1773648000-1773766800@publiagro.com.bo
SUMMARY:7mo CURSO SELECCION DE MATRICES Y REPRODUCTORES
DESCRIPTION:
URL:https://publiagro.com.bo/evento/7mo-curso-seleccion-de-matrices-y-reproductores/
LOCATION:Salon de ASOCEBU
ATTACH;FMTTYPE=image/jpeg:https://publiagro.com.bo/wp-content/uploads/2026/03/16-17-CURSO-ASOCEBU-ok-scaled.jpg
END:VEVENT
BEGIN:VEVENT
DTSTART;TZID=America/La_Paz:20260317T080000
DTEND;TZID=America/La_Paz:20260317T123000
DTSTAMP:20260423T053428
CREATED:20260316T141157Z
LAST-MODIFIED:20260316T141157Z
UID:110209-1773734400-1773750600@publiagro.com.bo
SUMMARY:FAENA TECNICA NELORE
DESCRIPTION:
URL:https://publiagro.com.bo/evento/faena-tecnica-nelore/
LOCATION:Fridosa\, Carretera a Cotoca\, Santa Cruz de la Sierra\, Santa Cruz\, Bolivia
ATTACH;FMTTYPE=image/jpeg:https://publiagro.com.bo/wp-content/uploads/2026/03/17-faena-tecnica-nelore-premium.jpg
END:VEVENT
BEGIN:VEVENT
DTSTART;TZID=America/La_Paz:20260317T100000
DTEND;TZID=America/La_Paz:20260319T140000
DTSTAMP:20260423T053428
CREATED:20260227T130135Z
LAST-MODIFIED:20260227T130135Z
UID:108681-1773741600-1773928800@publiagro.com.bo
SUMMARY:REMATE AL PESO Y AL BULTO
DESCRIPTION:
URL:https://publiagro.com.bo/evento/remate-al-peso-y-al-bulto-3/
LOCATION:Centro de Remates Beni\, Beni\, Trinidad\, Beni\, Bolivia
ATTACH;FMTTYPE=image/jpeg:https://publiagro.com.bo/wp-content/uploads/2026/02/remates-beni-marzo-ok-scaled.jpg
END:VEVENT
BEGIN:VEVENT
DTSTART;TZID=America/La_Paz:20260317T190000
DTEND;TZID=America/La_Paz:20260317T223000
DTSTAMP:20260423T053428
CREATED:20260226T230246Z
LAST-MODIFIED:20260226T230246Z
UID:108667-1773774000-1773786600@publiagro.com.bo
SUMMARY:CURSO INTERNACIONAL DE PARASITOLOGIA CLINICA
DESCRIPTION:
URL:https://publiagro.com.bo/evento/curso-internacional-de-parasitologia-clinica/
LOCATION:Hotel Novotel\, Av. Roca Coronado\, Santa Cruz de la Sierra\, Santa Cruz\, Bolivia
ATTACH;FMTTYPE=image/jpeg:https://publiagro.com.bo/wp-content/uploads/2026/02/17-interquimica-msd-ok.jpg
END:VEVENT
BEGIN:VEVENT
DTSTART;TZID=America/La_Paz:20260317T193000
DTEND;TZID=America/La_Paz:20260319T213000
DTSTAMP:20260423T053428
CREATED:20260310T115442Z
LAST-MODIFIED:20260310T115442Z
UID:109931-1773775800-1773955800@publiagro.com.bo
SUMMARY:USO INADECUADO DE LOS ANTIMICROBIANOS
DESCRIPTION:
URL:https://publiagro.com.bo/evento/uso-inadecuado-de-los-antimicrobianos/
LOCATION:Virtual
ATTACH;FMTTYPE=image/jpeg:https://publiagro.com.bo/wp-content/uploads/2026/03/17-19-totalmind.jpg
END:VEVENT
BEGIN:VEVENT
DTSTART;TZID=America/La_Paz:20260318T190000
DTEND;TZID=America/La_Paz:20260318T230000
DTSTAMP:20260423T053428
CREATED:20260312T123407Z
LAST-MODIFIED:20260312T123407Z
UID:110075-1773860400-1773874800@publiagro.com.bo
SUMMARY:CHARLA TECNICA ENFERMEDADES INFECCIOSAS PHIBRO
DESCRIPTION:
URL:https://publiagro.com.bo/evento/charla-tecnica-enfermedades-infecciosas-phibro/
LOCATION:Salon Amambai Hotel Camino Real\, Santa Cruz de la Sierra\, Santa Cruz\, Bolivia
ATTACH;FMTTYPE=image/jpeg:https://publiagro.com.bo/wp-content/uploads/2026/03/18-charla-ada.jpg
END:VEVENT
BEGIN:VEVENT
DTSTART;TZID=America/La_Paz:20260318T200000
DTEND;TZID=America/La_Paz:20260318T220000
DTSTAMP:20260423T053428
CREATED:20260317T005027Z
LAST-MODIFIED:20260317T005027Z
UID:110264-1773864000-1773871200@publiagro.com.bo
SUMMARY:PRODUCCION INTENSIVA DE LECHUGAS ECOLOGICAS EN CARPAS SOLARES
DESCRIPTION:
URL:https://publiagro.com.bo/evento/produccion-intensiva-de-lechugas-ecologicas-en-carpas-solares/
LOCATION:Virtual
ATTACH;FMTTYPE=image/jpeg:https://publiagro.com.bo/wp-content/uploads/2026/03/18-lehugas-hidroponicas.jpg
END:VEVENT
BEGIN:VEVENT
DTSTART;TZID=America/La_Paz:20260319T200000
DTEND;TZID=America/La_Paz:20260322T220000
DTSTAMP:20260423T053428
CREATED:20260317T004824Z
LAST-MODIFIED:20260317T004824Z
UID:110260-1773950400-1774216800@publiagro.com.bo
SUMMARY:CURSO CRIANZA MELIPONAS O ABEJAS
DESCRIPTION:
URL:https://publiagro.com.bo/evento/curso-crianza-meliponas-o-abejas/
LOCATION:Virtual
ATTACH;FMTTYPE=image/jpeg:https://publiagro.com.bo/wp-content/uploads/2026/03/19-22-abejas-ok-scaled.jpg
END:VEVENT
END:VCALENDAR