BEGIN:VCALENDAR
VERSION:2.0
PRODID:-//Publiagro - ECPv6.15.12.2//NONSGML v1.0//EN
CALSCALE:GREGORIAN
METHOD:PUBLISH
X-WR-CALNAME:Publiagro
X-ORIGINAL-URL:https://publiagro.com.bo
X-WR-CALDESC:Eventos para Publiagro
REFRESH-INTERVAL;VALUE=DURATION:PT1H
X-Robots-Tag:noindex
X-PUBLISHED-TTL:PT1H
BEGIN:VTIMEZONE
TZID:America/La_Paz
BEGIN:STANDARD
TZOFFSETFROM:-0400
TZOFFSETTO:-0400
TZNAME:-04
DTSTART:20250101T000000
END:STANDARD
END:VTIMEZONE
BEGIN:VEVENT
DTSTART;VALUE=DATE:20260514
DTEND;VALUE=DATE:20260518
DTSTAMP:20260423T040118
CREATED:20260127T210709Z
LAST-MODIFIED:20260127T210709Z
UID:107148-1778716800-1779062399@publiagro.com.bo
SUMMARY:EXPONORTE DINÁMICA
DESCRIPTION:
URL:https://publiagro.com.bo/evento/exponorte-dinamica-2/
LOCATION:Montero
ATTACH;FMTTYPE=image/jpeg:https://publiagro.com.bo/wp-content/uploads/2026/01/WhatsApp-Image-2026-01-27-at-4.29.23-PM-scaled.jpeg
END:VEVENT
BEGIN:VEVENT
DTSTART;VALUE=DATE:20260514
DTEND;VALUE=DATE:20260518
DTSTAMP:20260423T040118
CREATED:20260422T135822Z
LAST-MODIFIED:20260422T135822Z
UID:113071-1778716800-1779062399@publiagro.com.bo
SUMMARY:EXPONORTE DINAMICA 2026
DESCRIPTION:
URL:https://publiagro.com.bo/evento/exponorte-dinamica-2026/
LOCATION:CAMPO FERIAL AGANORTE\, Montero\, Santa Cruz\, Bolivia
ATTACH;FMTTYPE=image/jpeg:https://publiagro.com.bo/wp-content/uploads/2026/04/EXPONORTE-scaled.jpg
END:VEVENT
END:VCALENDAR