BEGIN:VCALENDAR
VERSION:2.0
PRODID:-//Publiagro - ECPv6.15.12.2//NONSGML v1.0//EN
CALSCALE:GREGORIAN
METHOD:PUBLISH
X-ORIGINAL-URL:https://publiagro.com.bo
X-WR-CALDESC:Eventos para Publiagro
REFRESH-INTERVAL;VALUE=DURATION:PT1H
X-Robots-Tag:noindex
X-PUBLISHED-TTL:PT1H
BEGIN:VTIMEZONE
TZID:America/La_Paz
BEGIN:STANDARD
TZOFFSETFROM:-0400
TZOFFSETTO:-0400
TZNAME:-04
DTSTART:20250101T000000
END:STANDARD
END:VTIMEZONE
BEGIN:VEVENT
DTSTART;VALUE=DATE:20260409
DTEND;VALUE=DATE:20260411
DTSTAMP:20260423T040129
CREATED:20260116T134904Z
LAST-MODIFIED:20260116T134904Z
UID:106815-1775692800-1775865599@publiagro.com.bo
SUMMARY:2DO SEMINARIO INTERNACIONAL DE BIOSEGURIDAD Y PRODUCTIVIDAD AVÍCOLA - SIBPA
DESCRIPTION:
URL:https://publiagro.com.bo/evento/2do-seminario-internacional-de-bioseguridad-y-productividad-avicola-sibpa/
LOCATION:Santa Cruz
ATTACH;FMTTYPE=image/jpeg:https://publiagro.com.bo/wp-content/uploads/2026/01/WhatsApp-Image-2026-01-16-at-6.47.02-AM-scaled.jpeg
END:VEVENT
END:VCALENDAR