BEGIN:VCALENDAR
VERSION:2.0
PRODID:-//Publiagro - ECPv6.15.12.2//NONSGML v1.0//EN
CALSCALE:GREGORIAN
METHOD:PUBLISH
X-WR-CALNAME:Publiagro
X-ORIGINAL-URL:https://publiagro.com.bo
X-WR-CALDESC:Eventos para Publiagro
REFRESH-INTERVAL;VALUE=DURATION:PT1H
X-Robots-Tag:noindex
X-PUBLISHED-TTL:PT1H
BEGIN:VTIMEZONE
TZID:America/La_Paz
BEGIN:STANDARD
TZOFFSETFROM:-0400
TZOFFSETTO:-0400
TZNAME:-04
DTSTART:20250101T000000
END:STANDARD
END:VTIMEZONE
BEGIN:VEVENT
DTSTART;TZID=America/La_Paz:20260401T190000
DTEND;TZID=America/La_Paz:20260401T230000
DTSTAMP:20260423T022615
CREATED:20260310T231027Z
LAST-MODIFIED:20260310T231027Z
UID:109987-1775070000-1775084400@publiagro.com.bo
SUMMARY:REMATE OVINO ALIANZA GENETICA
DESCRIPTION:
URL:https://publiagro.com.bo/evento/remate-ovino-alianza-genetica/
LOCATION:LA TABLA BOULEVARD\, Santa Cruz de la Sierra\, Santa Cruz\, Bolivia
ATTACH;FMTTYPE=image/jpeg:https://publiagro.com.bo/wp-content/uploads/2026/03/1-remate-ovino.jpg
END:VEVENT
END:VCALENDAR