BEGIN:VCALENDAR
VERSION:2.0
PRODID:-//Publiagro - ECPv6.15.12.2//NONSGML v1.0//EN
CALSCALE:GREGORIAN
METHOD:PUBLISH
X-WR-CALNAME:Publiagro
X-ORIGINAL-URL:https://publiagro.com.bo
X-WR-CALDESC:Eventos para Publiagro
REFRESH-INTERVAL;VALUE=DURATION:PT1H
X-Robots-Tag:noindex
X-PUBLISHED-TTL:PT1H
BEGIN:VTIMEZONE
TZID:America/La_Paz
BEGIN:STANDARD
TZOFFSETFROM:-0400
TZOFFSETTO:-0400
TZNAME:-04
DTSTART:20250101T000000
END:STANDARD
END:VTIMEZONE
BEGIN:VEVENT
DTSTART;TZID=America/La_Paz:20260328T200000
DTEND;TZID=America/La_Paz:20260328T233000
DTSTAMP:20260423T040753
CREATED:20260203T121916Z
LAST-MODIFIED:20260203T121916Z
UID:107477-1774728000-1774740600@publiagro.com.bo
SUMMARY:REMATE BRAHMAN SIN FRONTERAS
DESCRIPTION:
URL:https://publiagro.com.bo/evento/remate-brahman-sin-fronteras/
LOCATION:Salon Guarayos Fexpocruz\, Av. Roca Coronado\, Santa Cruz de la Sierra\, Santa Cruz\, Bolivia
ATTACH;FMTTYPE=image/jpeg:https://publiagro.com.bo/wp-content/uploads/2026/02/BRAHMAN-SIN-FRONTERAS.jpg
END:VEVENT
BEGIN:VEVENT
DTSTART;TZID=America/La_Paz:20260328T200000
DTEND;TZID=America/La_Paz:20260328T233000
DTSTAMP:20260423T040753
CREATED:20260310T115229Z
LAST-MODIFIED:20260310T115229Z
UID:109927-1774728000-1774740600@publiagro.com.bo
SUMMARY:REMATE BRAHMAN SIN FRONTERAS
DESCRIPTION:
URL:https://publiagro.com.bo/evento/remate-brahman-sin-fronteras-2/
LOCATION:Salon Guarani\, Fexpocruz\, Santa Cruz de la Sierra\, Santa Cruz\, Bolivia
ATTACH;FMTTYPE=image/jpeg:https://publiagro.com.bo/wp-content/uploads/2026/03/28-BRAHMAN-SIN-FRONTERAS-scaled.jpg
END:VEVENT
END:VCALENDAR