BEGIN:VCALENDAR
VERSION:2.0
PRODID:-//Publiagro - ECPv6.15.12.2//NONSGML v1.0//EN
CALSCALE:GREGORIAN
METHOD:PUBLISH
X-ORIGINAL-URL:https://publiagro.com.bo
X-WR-CALDESC:Eventos para Publiagro
REFRESH-INTERVAL;VALUE=DURATION:PT1H
X-Robots-Tag:noindex
X-PUBLISHED-TTL:PT1H
BEGIN:VTIMEZONE
TZID:America/La_Paz
BEGIN:STANDARD
TZOFFSETFROM:-0400
TZOFFSETTO:-0400
TZNAME:-04
DTSTART:20250101T000000
END:STANDARD
END:VTIMEZONE
BEGIN:VEVENT
DTSTART;TZID=America/La_Paz:20260324T080000
DTEND;TZID=America/La_Paz:20260327T170000
DTSTAMP:20260423T040855
CREATED:20251030T225850Z
LAST-MODIFIED:20251030T225850Z
UID:104194-1774339200-1774630800@publiagro.com.bo
SUMMARY:PANA 2026
DESCRIPTION:[vc_single_image image=»104190″ img_size=»medium» alignment=»center» css=»»]
URL:https://publiagro.com.bo/evento/pana-2026/
LOCATION:Santa Cruz
ATTACH;FMTTYPE=image/jpeg:https://publiagro.com.bo/wp-content/uploads/2025/10/WhatsApp-Image-2025-10-30-at-9.57.30-AM.jpeg
END:VEVENT
BEGIN:VEVENT
DTSTART;TZID=America/La_Paz:20260327T080000
DTEND;TZID=America/La_Paz:20260327T170000
DTSTAMP:20260423T040855
CREATED:20260306T001219Z
LAST-MODIFIED:20260306T001219Z
UID:109114-1774598400-1774630800@publiagro.com.bo
SUMMARY:CAPACITACION MANEJO DE PASTURAS
DESCRIPTION:
URL:https://publiagro.com.bo/evento/capacitacion-manejo-de-pasturas/
LOCATION:Buena Vista\, Buena Vista\, san\, Bolivia
ATTACH;FMTTYPE=image/jpeg:https://publiagro.com.bo/wp-content/uploads/2026/03/27-manejo-de-pasturas.jpg
END:VEVENT
BEGIN:VEVENT
DTSTART;TZID=America/La_Paz:20260327T200000
DTEND;TZID=America/La_Paz:20260327T233000
DTSTAMP:20260423T040855
CREATED:20260314T204638Z
LAST-MODIFIED:20260314T204638Z
UID:110206-1774641600-1774654200@publiagro.com.bo
SUMMARY:REMATE LEGADO FIV BRAHMAN K DE ORO
DESCRIPTION:
URL:https://publiagro.com.bo/evento/remate-legado-fiv-brahman-k-de-oro/
LOCATION:Salón Guarani\, Fexpocruz\, Santa Cruz\, Santa Cruz\, Bolivia
END:VEVENT
BEGIN:VEVENT
DTSTART;TZID=America/La_Paz:20260327T200000
DTEND;TZID=America/La_Paz:20260327T233000
DTSTAMP:20260423T040856
CREATED:20260317T002556Z
LAST-MODIFIED:20260317T002556Z
UID:110249-1774641600-1774654200@publiagro.com.bo
SUMMARY:REMATO LEGADO FIV K DE ORO BRAHMAN
DESCRIPTION:
URL:https://publiagro.com.bo/evento/remato-legado-fiv-k-de-oro-brahman/
LOCATION:Salón Guarani\, Fexpocruz\, Santa Cruz\, Santa Cruz\, Bolivia
ATTACH;FMTTYPE=image/png:https://publiagro.com.bo/wp-content/uploads/2026/03/27-remate-k-de-oro-legado-fiv-1.png
END:VEVENT
END:VCALENDAR