BEGIN:VCALENDAR
VERSION:2.0
PRODID:-//Publiagro - ECPv6.15.12.2//NONSGML v1.0//EN
CALSCALE:GREGORIAN
METHOD:PUBLISH
X-WR-CALNAME:Publiagro
X-ORIGINAL-URL:https://publiagro.com.bo
X-WR-CALDESC:Eventos para Publiagro
REFRESH-INTERVAL;VALUE=DURATION:PT1H
X-Robots-Tag:noindex
X-PUBLISHED-TTL:PT1H
BEGIN:VTIMEZONE
TZID:America/La_Paz
BEGIN:STANDARD
TZOFFSETFROM:-0400
TZOFFSETTO:-0400
TZNAME:-04
DTSTART:20250101T000000
END:STANDARD
END:VTIMEZONE
BEGIN:VEVENT
DTSTART;TZID=America/La_Paz:20260308T080000
DTEND;TZID=America/La_Paz:20260308T170000
DTSTAMP:20260423T040755
CREATED:20260221T195823Z
LAST-MODIFIED:20260221T195823Z
UID:108395-1772956800-1772989200@publiagro.com.bo
SUMMARY:TALLER PRODUCCION Y CONSERVACION DE FORRAJE
DESCRIPTION:
URL:https://publiagro.com.bo/evento/taller-produccion-y-conservacion-de-forraje/
LOCATION:Comunidad Guenda\, Porongo\, Porongo\, Santa Cruz\, Bolivia
ATTACH;FMTTYPE=image/jpeg:https://publiagro.com.bo/wp-content/uploads/2026/02/taller-de-forrajes-2-scaled.jpg
END:VEVENT
BEGIN:VEVENT
DTSTART;TZID=America/La_Paz:20260308T103000
DTEND;TZID=America/La_Paz:20260308T170000
DTSTAMP:20260423T040755
CREATED:20260224T170100Z
LAST-MODIFIED:20260224T170100Z
UID:108476-1772965800-1772989200@publiagro.com.bo
SUMMARY:REMATE ESPECIAL MUJERES QUE LIDERAN EL CAMPO
DESCRIPTION:
URL:https://publiagro.com.bo/evento/remate-especial-mujeres-que-lideran-el-campo/
LOCATION:App El Rodeo\, Virtual\, Santa Cruz de la Sierra\, Santa Cruz
ATTACH;FMTTYPE=image/jpeg:https://publiagro.com.bo/wp-content/uploads/2026/02/8-REMATE-MUJERES-OK-scaled.jpg
END:VEVENT
BEGIN:VEVENT
DTSTART;TZID=America/La_Paz:20260308T120000
DTEND;TZID=America/La_Paz:20260308T120000
DTSTAMP:20260423T040755
CREATED:20260129T142049Z
LAST-MODIFIED:20260129T142049Z
UID:107228-1772971200-1772971200@publiagro.com.bo
SUMMARY:GRAN REMATE TRILOGIA BRAHMAN
DESCRIPTION:
URL:https://publiagro.com.bo/evento/gran-remate-trilogia-brahman/
LOCATION:Salon Guaraní\, Fexpocruz
ATTACH;FMTTYPE=image/jpeg:https://publiagro.com.bo/wp-content/uploads/2026/01/WhatsApp-Image-2026-01-29-at-7.55.33-AM-scaled.jpeg
END:VEVENT
END:VCALENDAR