BEGIN:VCALENDAR
VERSION:2.0
PRODID:-//Publiagro - ECPv6.15.12.2//NONSGML v1.0//EN
CALSCALE:GREGORIAN
METHOD:PUBLISH
X-WR-CALNAME:Publiagro
X-ORIGINAL-URL:https://publiagro.com.bo
X-WR-CALDESC:Eventos para Publiagro
REFRESH-INTERVAL;VALUE=DURATION:PT1H
X-Robots-Tag:noindex
X-PUBLISHED-TTL:PT1H
BEGIN:VTIMEZONE
TZID:America/La_Paz
BEGIN:STANDARD
TZOFFSETFROM:-0400
TZOFFSETTO:-0400
TZNAME:-04
DTSTART:20250101T000000
END:STANDARD
END:VTIMEZONE
BEGIN:VEVENT
DTSTART;TZID=America/La_Paz:20260303T100000
DTEND;TZID=America/La_Paz:20260305T140000
DTSTAMP:20260423T040748
CREATED:20260227T130027Z
LAST-MODIFIED:20260227T130051Z
UID:108676-1772532000-1772719200@publiagro.com.bo
SUMMARY:REMATE AL PESO Y AL BULTO
DESCRIPTION:
URL:https://publiagro.com.bo/evento/remate-al-peso-y-al-bulto/
LOCATION:Centro de Remates Beni\, Beni\, Trinidad\, Beni\, Bolivia
ATTACH;FMTTYPE=image/jpeg:https://publiagro.com.bo/wp-content/uploads/2026/02/remates-beni-marzo-ok-scaled.jpg
END:VEVENT
BEGIN:VEVENT
DTSTART;TZID=America/La_Paz:20260303T190000
DTEND;TZID=America/La_Paz:20260303T220000
DTSTAMP:20260423T040748
CREATED:20260226T224329Z
LAST-MODIFIED:20260226T224329Z
UID:108662-1772564400-1772575200@publiagro.com.bo
SUMMARY:PREMIACION TERCERA FAENA TECNICA RAZA SINDI
DESCRIPTION:
URL:https://publiagro.com.bo/evento/premiacion-tercera-faena-tecnica-raza-sindi/
LOCATION:Salón Asocebu\, Av\, Roca Coronado Fexpocruz\, Santa Cruz de la Sierra\, Santa Cruz\, Bolivia
ATTACH;FMTTYPE=image/jpeg:https://publiagro.com.bo/wp-content/uploads/2026/02/637684665_926132846460251_9201860702372634337_n-scaled.jpg
END:VEVENT
END:VCALENDAR