BEGIN:VCALENDAR
VERSION:2.0
PRODID:-//Publiagro - ECPv6.15.12.2//NONSGML v1.0//EN
CALSCALE:GREGORIAN
METHOD:PUBLISH
X-WR-CALNAME:Publiagro
X-ORIGINAL-URL:https://publiagro.com.bo
X-WR-CALDESC:Eventos para Publiagro
REFRESH-INTERVAL;VALUE=DURATION:PT1H
X-Robots-Tag:noindex
X-PUBLISHED-TTL:PT1H
BEGIN:VTIMEZONE
TZID:America/La_Paz
BEGIN:STANDARD
TZOFFSETFROM:-0400
TZOFFSETTO:-0400
TZNAME:-04
DTSTART:20250101T000000
END:STANDARD
END:VTIMEZONE
BEGIN:VEVENT
DTSTART;TZID=America/La_Paz:20260228T150000
DTEND;TZID=America/La_Paz:20260301T203000
DTSTAMP:20260423T040756
CREATED:20260204T155242Z
LAST-MODIFIED:20260204T155242Z
UID:107589-1772290800-1772397000@publiagro.com.bo
SUMMARY:MERCADITO GATUNO 2026
DESCRIPTION:
URL:https://publiagro.com.bo/evento/mercadito-gatuno-2026/
LOCATION:Santa Cruz
ATTACH;FMTTYPE=image/jpeg:https://publiagro.com.bo/wp-content/uploads/2026/02/gatunao-ok-scaled.jpg
END:VEVENT
BEGIN:VEVENT
DTSTART;TZID=America/La_Paz:20260301T070000
DTEND;TZID=America/La_Paz:20260301T230000
DTSTAMP:20260423T040756
CREATED:20260218T172216Z
LAST-MODIFIED:20260218T172216Z
UID:108236-1772348400-1772406000@publiagro.com.bo
SUMMARY:PRESENTACION MEGAREMATE PRODUCTIVIDAD CHIQUITANA
DESCRIPTION:
URL:https://publiagro.com.bo/evento/presentacion-megaremate-productividad-chiquitana/
LOCATION:Restaurant Los Hierros\, Calle G esquina Salvador\, Santa Cruz de la Sierra\, Santa Cruz\, Bolivia
ATTACH;FMTTYPE=image/jpeg:https://publiagro.com.bo/wp-content/uploads/2026/02/presentacion-mega-2-scaled.jpg
END:VEVENT
BEGIN:VEVENT
DTSTART;TZID=America/La_Paz:20260301T160000
DTEND;TZID=America/La_Paz:20260301T200000
DTSTAMP:20260423T040756
CREATED:20260227T235811Z
LAST-MODIFIED:20260227T235811Z
UID:108776-1772380800-1772395200@publiagro.com.bo
SUMMARY:JUNTE DE BULLS EN SANTA CRUZ
DESCRIPTION:
URL:https://publiagro.com.bo/evento/junte-de-bulls-en-santa-cruz/
LOCATION:Cambodromo\, 4ro anillo
ATTACH;FMTTYPE=image/jpeg:https://publiagro.com.bo/wp-content/uploads/2026/02/1-JUNTE-BULL-TERRIER-ok-scaled.jpg
END:VEVENT
END:VCALENDAR