BEGIN:VCALENDAR
VERSION:2.0
PRODID:-//Publiagro - ECPv6.15.12.2//NONSGML v1.0//EN
CALSCALE:GREGORIAN
METHOD:PUBLISH
X-WR-CALNAME:Publiagro
X-ORIGINAL-URL:https://publiagro.com.bo
X-WR-CALDESC:Eventos para Publiagro
REFRESH-INTERVAL;VALUE=DURATION:PT1H
X-Robots-Tag:noindex
X-PUBLISHED-TTL:PT1H
BEGIN:VTIMEZONE
TZID:America/La_Paz
BEGIN:STANDARD
TZOFFSETFROM:-0400
TZOFFSETTO:-0400
TZNAME:-04
DTSTART:20250101T000000
END:STANDARD
END:VTIMEZONE
BEGIN:VEVENT
DTSTART;TZID=America/La_Paz:20260219T200000
DTEND;TZID=America/La_Paz:20260219T233000
DTSTAMP:20260423T070057
CREATED:20260218T125254Z
LAST-MODIFIED:20260218T125254Z
UID:108226-1771531200-1771543800@publiagro.com.bo
SUMMARY:REMATE COMERCIAL DE GANADO AL PESO Y BULTO
DESCRIPTION:
URL:https://publiagro.com.bo/evento/remate-comercial-de-ganado-al-peso-y-bulto/
LOCATION:Centro de Remates Agagua\, Campo Ferial Agagua\, Guarayos\, Santa Cruz\, Bolivia
ATTACH;FMTTYPE=image/jpeg:https://publiagro.com.bo/wp-content/uploads/2026/02/remate-comercial-carnval-ok-scaled.jpg
END:VEVENT
END:VCALENDAR