BEGIN:VCALENDAR
VERSION:2.0
PRODID:-//Publiagro - ECPv6.15.12.2//NONSGML v1.0//EN
CALSCALE:GREGORIAN
METHOD:PUBLISH
X-ORIGINAL-URL:https://publiagro.com.bo
X-WR-CALDESC:Eventos para Publiagro
REFRESH-INTERVAL;VALUE=DURATION:PT1H
X-Robots-Tag:noindex
X-PUBLISHED-TTL:PT1H
BEGIN:VTIMEZONE
TZID:America/La_Paz
BEGIN:STANDARD
TZOFFSETFROM:-0400
TZOFFSETTO:-0400
TZNAME:-04
DTSTART:20250101T000000
END:STANDARD
END:VTIMEZONE
BEGIN:VEVENT
DTSTART;TZID=America/La_Paz:20260213T110000
DTEND;TZID=America/La_Paz:20260213T170000
DTSTAMP:20260423T070126
CREATED:20260207T152836Z
LAST-MODIFIED:20260207T152836Z
UID:107837-1770980400-1771002000@publiagro.com.bo
SUMMARY:Gran Remate ganadero
DESCRIPTION:
URL:https://publiagro.com.bo/evento/gran-remate-ganadero-8/
LOCATION:Centro de remate Loma de Ovando\, Km 4.5 Carretera Puerto Almacén\, Trinidad\, Beni\, Bolivia
ATTACH;FMTTYPE=image/jpeg:https://publiagro.com.bo/wp-content/uploads/2026/02/remate-beni-2-ok-scaled.jpg
END:VEVENT
END:VCALENDAR