BEGIN:VCALENDAR
VERSION:2.0
PRODID:-//Publiagro - ECPv6.15.12.2//NONSGML v1.0//EN
CALSCALE:GREGORIAN
METHOD:PUBLISH
X-ORIGINAL-URL:https://publiagro.com.bo
X-WR-CALDESC:Eventos para Publiagro
REFRESH-INTERVAL;VALUE=DURATION:PT1H
X-Robots-Tag:noindex
X-PUBLISHED-TTL:PT1H
BEGIN:VTIMEZONE
TZID:America/La_Paz
BEGIN:STANDARD
TZOFFSETFROM:-0400
TZOFFSETTO:-0400
TZNAME:-04
DTSTART:20250101T000000
END:STANDARD
END:VTIMEZONE
BEGIN:VEVENT
DTSTART;TZID=America/La_Paz:20260206T090000
DTEND;TZID=America/La_Paz:20260207T180000
DTSTAMP:20260423T204025
CREATED:20260203T140954Z
LAST-MODIFIED:20260203T140954Z
UID:107490-1770368400-1770487200@publiagro.com.bo
SUMMARY:FERIA DEL DURANZO DE LURIBAY
DESCRIPTION:
URL:https://publiagro.com.bo/evento/feria-del-duranzo-de-luribay/
LOCATION:Plaza Humbolt\, La Paz\, Bolivia
ATTACH;FMTTYPE=image/jpeg:https://publiagro.com.bo/wp-content/uploads/2026/02/durazno-luribay.jpg
END:VEVENT
BEGIN:VEVENT
DTSTART;TZID=America/La_Paz:20260206T110000
DTEND;TZID=America/La_Paz:20260206T150000
DTSTAMP:20260423T204025
CREATED:20260204T122733Z
LAST-MODIFIED:20260204T122733Z
UID:107569-1770375600-1770390000@publiagro.com.bo
SUMMARY:Gran Remate Ganadero
DESCRIPTION:
URL:https://publiagro.com.bo/evento/gran-remate-ganadero-6/
LOCATION:Centro de remate Loma de Ovando\, Km 4.5 Carretera Puerto Almacén\, Trinidad\, Beni\, Bolivia
ATTACH;FMTTYPE=image/jpeg:https://publiagro.com.bo/wp-content/uploads/2026/02/remate-moote-ok-scaled.jpg
END:VEVENT
BEGIN:VEVENT
DTSTART;TZID=America/La_Paz:20260206T193000
DTEND;TZID=America/La_Paz:20260207T210000
DTSTAMP:20260423T204025
CREATED:20260205T133231Z
LAST-MODIFIED:20260205T133231Z
UID:107641-1770406200-1770498000@publiagro.com.bo
SUMMARY:Técnicas y procedimientos para la clasificación de la calidad de la soya
DESCRIPTION:
URL:https://publiagro.com.bo/evento/tecnicas-y-procedimientos-para-la-clasificacion-de-la-calidad-de-la-soya/
LOCATION:Santa Cruz
ATTACH;FMTTYPE=image/png:https://publiagro.com.bo/wp-content/uploads/2026/02/clasificacion-soya.png
END:VEVENT
BEGIN:VEVENT
DTSTART;TZID=America/La_Paz:20260206T200000
DTEND;TZID=America/La_Paz:20260207T233000
DTSTAMP:20260423T204025
CREATED:20260205T212224Z
LAST-MODIFIED:20260205T212224Z
UID:107645-1770408000-1770507000@publiagro.com.bo
SUMMARY:Gran remate de ganado comercial
DESCRIPTION:
URL:https://publiagro.com.bo/evento/gran-remate-de-ganado-comercial-4/
LOCATION:Centro de remate Agasaj\, San Javier\, Bolivia
ATTACH;FMTTYPE=image/jpeg:https://publiagro.com.bo/wp-content/uploads/2026/02/reamte-san-javier-ok-scaled.jpg
END:VEVENT
END:VCALENDAR