BEGIN:VCALENDAR
VERSION:2.0
PRODID:-//Publiagro - ECPv6.15.12.2//NONSGML v1.0//EN
CALSCALE:GREGORIAN
METHOD:PUBLISH
X-ORIGINAL-URL:https://publiagro.com.bo
X-WR-CALDESC:Eventos para Publiagro
REFRESH-INTERVAL;VALUE=DURATION:PT1H
X-Robots-Tag:noindex
X-PUBLISHED-TTL:PT1H
BEGIN:VTIMEZONE
TZID:America/La_Paz
BEGIN:STANDARD
TZOFFSETFROM:-0400
TZOFFSETTO:-0400
TZNAME:-04
DTSTART:20250101T000000
END:STANDARD
END:VTIMEZONE
BEGIN:VEVENT
DTSTART;TZID=America/La_Paz:20260121T080000
DTEND;TZID=America/La_Paz:20260124T170000
DTSTAMP:20260424T051738
CREATED:20251128T151535Z
LAST-MODIFIED:20251128T151535Z
UID:105541-1768982400-1769274000@publiagro.com.bo
SUMMARY:FEXPOGEP 2026
DESCRIPTION:[vc_single_image image=»105542″ img_size=»medium» alignment=»center» css=»»]
URL:https://publiagro.com.bo/evento/fexpogep-2026/
LOCATION:Municipio de El Puente
ATTACH;FMTTYPE=image/jpeg:https://publiagro.com.bo/wp-content/uploads/2025/11/WhatsApp-Image-2025-11-28-at-10.18.51-AM-scaled.jpeg
END:VEVENT
BEGIN:VEVENT
DTSTART;TZID=America/La_Paz:20260124T083000
DTEND;TZID=America/La_Paz:20260124T150000
DTSTAMP:20260424T051738
CREATED:20260114T212604Z
LAST-MODIFIED:20260114T212604Z
UID:106712-1769243400-1769266800@publiagro.com.bo
SUMMARY:CICLO DE CONFERENCIAS - VIRTUDES DEL BRAHMAN_TÉCNICAS Y EXPERIENCIAS PRODUCTIVAS
DESCRIPTION:
URL:https://publiagro.com.bo/evento/ciclo-conferencias-brahman/
LOCATION:Santa Cruz
ATTACH;FMTTYPE=image/jpeg:https://publiagro.com.bo/wp-content/uploads/2026/01/WhatsApp-Image-2026-01-14-at-3.23.48-PM-scaled.jpeg
END:VEVENT
BEGIN:VEVENT
DTSTART;TZID=America/La_Paz:20260124T100000
DTEND;TZID=America/La_Paz:20260124T100000
DTSTAMP:20260424T051738
CREATED:20260116T185115Z
LAST-MODIFIED:20260116T185115Z
UID:106845-1769248800-1769248800@publiagro.com.bo
SUMMARY:GRAN COMPETENCIA DE TAMBOR
DESCRIPTION:
URL:https://publiagro.com.bo/evento/gran-competencia-de-tambor/
LOCATION:Santa Cruz
ATTACH;FMTTYPE=image/jpeg:https://publiagro.com.bo/wp-content/uploads/2026/01/WhatsApp-Image-2026-01-16-at-1.13.25-PM-scaled.jpeg
END:VEVENT
BEGIN:VEVENT
DTSTART;TZID=America/La_Paz:20260124T130000
DTEND;TZID=America/La_Paz:20260124T130000
DTSTAMP:20260424T051738
CREATED:20260115T140401Z
LAST-MODIFIED:20260115T140401Z
UID:106735-1769259600-1769259600@publiagro.com.bo
SUMMARY:REMATE GANADERO CAMIRI
DESCRIPTION:
URL:https://publiagro.com.bo/evento/remate-ganadero-camiri/
LOCATION:Santa Cruz
ATTACH;FMTTYPE=image/jpeg:https://publiagro.com.bo/wp-content/uploads/2026/01/WhatsApp-Image-2026-01-14-at-7.13.03-PM-scaled.jpeg
END:VEVENT
END:VCALENDAR