BEGIN:VCALENDAR
VERSION:2.0
PRODID:-//Publiagro - ECPv6.15.12.2//NONSGML v1.0//EN
CALSCALE:GREGORIAN
METHOD:PUBLISH
X-WR-CALNAME:Publiagro
X-ORIGINAL-URL:https://publiagro.com.bo
X-WR-CALDESC:Eventos para Publiagro
REFRESH-INTERVAL;VALUE=DURATION:PT1H
X-Robots-Tag:noindex
X-PUBLISHED-TTL:PT1H
BEGIN:VTIMEZONE
TZID:America/La_Paz
BEGIN:STANDARD
TZOFFSETFROM:-0400
TZOFFSETTO:-0400
TZNAME:-04
DTSTART:20240101T000000
END:STANDARD
END:VTIMEZONE
BEGIN:VEVENT
DTSTART;TZID=America/La_Paz:20251220T143000
DTEND;TZID=America/La_Paz:20251220T170000
DTSTAMP:20260424T034721
CREATED:20251216T131423Z
LAST-MODIFIED:20251216T131423Z
UID:106302-1766241000-1766250000@publiagro.com.bo
SUMMARY:5to REMATE GENÉTICA A CAMPO
DESCRIPTION:[vc_single_image image=»106303″ img_size=»full» alignment=»center» css=»»]
URL:https://publiagro.com.bo/evento/5to-remate-genetica-a-campo/
LOCATION:Centro de Remates Subastar
ATTACH;FMTTYPE=image/jpeg:https://publiagro.com.bo/wp-content/uploads/2025/12/WhatsApp-Image-2025-12-15-at-2.59.12-PM.jpeg
END:VEVENT
END:VCALENDAR