BEGIN:VCALENDAR
VERSION:2.0
PRODID:-//Publiagro - ECPv6.15.12.2//NONSGML v1.0//EN
CALSCALE:GREGORIAN
METHOD:PUBLISH
X-ORIGINAL-URL:https://publiagro.com.bo
X-WR-CALDESC:Eventos para Publiagro
REFRESH-INTERVAL;VALUE=DURATION:PT1H
X-Robots-Tag:noindex
X-PUBLISHED-TTL:PT1H
BEGIN:VTIMEZONE
TZID:America/La_Paz
BEGIN:STANDARD
TZOFFSETFROM:-0400
TZOFFSETTO:-0400
TZNAME:-04
DTSTART:20240101T000000
END:STANDARD
END:VTIMEZONE
BEGIN:VEVENT
DTSTART;TZID=America/La_Paz:20251217T193000
DTEND;TZID=America/La_Paz:20251219T213000
DTSTAMP:20260424T034824
CREATED:20251209T000226Z
LAST-MODIFIED:20251209T000226Z
UID:105970-1765999800-1766179800@publiagro.com.bo
SUMMARY:GENETICA QUE TRANSFORMA EL FUTURO
DESCRIPTION:[vc_single_image image=»105964″ img_size=»medium» alignment=»center» css=»»]
URL:https://publiagro.com.bo/evento/genetica-que-transforma-el-futuro/
LOCATION:Santa Cruz
ATTACH;FMTTYPE=image/jpeg:https://publiagro.com.bo/wp-content/uploads/2025/12/WhatsApp-Image-2025-12-08-at-6.37.44-PM.jpeg
END:VEVENT
BEGIN:VEVENT
DTSTART;TZID=America/La_Paz:20251218T130000
DTEND;TZID=America/La_Paz:20251218T170000
DTSTAMP:20260424T034824
CREATED:20251211T131613Z
LAST-MODIFIED:20251211T131613Z
UID:106087-1766062800-1766077200@publiagro.com.bo
SUMMARY:REMATE GANADERO
DESCRIPTION:[vc_single_image image=»106088″ img_size=»medium» alignment=»center» css=»»]
URL:https://publiagro.com.bo/evento/remate-ganadero-2/
LOCATION:Camiri
ATTACH;FMTTYPE=image/jpeg:https://publiagro.com.bo/wp-content/uploads/2025/12/WhatsApp-Image-2025-12-11-at-9.10.30-AM-scaled.jpeg
END:VEVENT
END:VCALENDAR