BEGIN:VCALENDAR
VERSION:2.0
PRODID:-//Publiagro - ECPv6.15.12.2//NONSGML v1.0//EN
CALSCALE:GREGORIAN
METHOD:PUBLISH
X-WR-CALNAME:Publiagro
X-ORIGINAL-URL:https://publiagro.com.bo
X-WR-CALDESC:Eventos para Publiagro
REFRESH-INTERVAL;VALUE=DURATION:PT1H
X-Robots-Tag:noindex
X-PUBLISHED-TTL:PT1H
BEGIN:VTIMEZONE
TZID:America/La_Paz
BEGIN:STANDARD
TZOFFSETFROM:-0400
TZOFFSETTO:-0400
TZNAME:-04
DTSTART:20240101T000000
END:STANDARD
END:VTIMEZONE
BEGIN:VEVENT
DTSTART;TZID=America/La_Paz:20251204T080000
DTEND;TZID=America/La_Paz:20251205T170000
DTSTAMP:20260424T034719
CREATED:20251201T203806Z
LAST-MODIFIED:20251201T203806Z
UID:105659-1764835200-1764954000@publiagro.com.bo
SUMMARY:II FORO NACIONAL SOLUCIONES DESDE EL BOSQUE
DESCRIPTION:[vc_single_image image=»105660″ img_size=»medium» alignment=»center» css=»»]
URL:https://publiagro.com.bo/evento/ii-foro-nacional-soluciones-desde-el-bosque/
LOCATION:Santa Cruz
ATTACH;FMTTYPE=image/jpeg:https://publiagro.com.bo/wp-content/uploads/2025/12/WhatsApp-Image-2025-12-01-at-4.29.03-PM.jpeg
END:VEVENT
BEGIN:VEVENT
DTSTART;TZID=America/La_Paz:20251205T160000
DTEND;TZID=America/La_Paz:20251205T200000
DTSTAMP:20260424T034719
CREATED:20251126T120041Z
LAST-MODIFIED:20251126T120041Z
UID:105381-1764950400-1764964800@publiagro.com.bo
SUMMARY:3er REMATE COMERCIAL SAN BORJA
DESCRIPTION:[vc_single_image image=»105382″ img_size=»medium» alignment=»center» css=»»]
URL:https://publiagro.com.bo/evento/3er-remate-comercial-san-borja/
LOCATION:Centro de Remates del Campo Ferial San Borja
ATTACH;FMTTYPE=image/jpeg:https://publiagro.com.bo/wp-content/uploads/2025/11/WhatsApp-Image-2025-11-26-at-7.53.41-AM-scaled.jpeg
END:VEVENT
END:VCALENDAR